View In:
ArcGIS JavaScript
ArcGIS Online Map Viewer
ArcGIS Earth
Service Description: COC_2001_APR
Name: COC_2001_APR
Description:
Single Fused Map Cache: false
Extent:
XMin: 479830.74542129994
YMin: 795682.810066561
XMax: 550369.7454213
YMax: 860826.810066561
Spatial Reference: 26749
(26749)
LatestVCSWkid(0)
Initial Extent:
XMin: 479830.74542129994
YMin: 795682.810066561
XMax: 550369.7454213
YMax: 860826.810066561
Spatial Reference: 26749
(26749)
LatestVCSWkid(0)
Full Extent:
XMin: 479830.74542129994
YMin: 795682.810066561
XMax: 550369.7454213
YMax: 860826.810066561
Spatial Reference: 26749
(26749)
LatestVCSWkid(0)
Pixel Size X: 1.0
Pixel Size Y: 1.0
Band Count: 1
Pixel Type: U8
RasterFunction Infos: {"rasterFunctionInfos": [{
"name": "None",
"description": "",
"help": ""
}]}
Mensuration Capabilities: Basic
Inspection Capabilities:
Has Histograms: true
Has Colormap: false
Has Multi Dimensions : false
Rendering Rule:
Min Scale: 0
Max Scale: 0
Copyright Text:
Service Data Type: esriImageServiceDataTypeGeneric
Min Values: 27
Max Values: 255
Mean Values: 174.89379528986
Standard Deviation Values: 61.900096817033
Object ID Field:
Fields:
None
Default Mosaic Method: Center
Allowed Mosaic Methods:
SortField:
SortValue: null
Mosaic Operator: First
Default Compression Quality: 75
Default Resampling Method: Bilinear
Max Record Count: null
Max Image Height: 4100
Max Image Width: 15000
Max Download Image Count: null
Max Mosaic Image Count: null
Allow Raster Function: true
Allow Copy: true
Allow Analysis: true
Allow Compute TiePoints: false
Supports Statistics: false
Supports Advanced Queries: false
Use StandardizedQueries: true
Raster Type Infos:
Name: Raster Dataset
Description: Supports all ArcGIS Raster Datasets
Help:
Has Raster Attribute Table: false
Edit Fields Info: null
Ownership Based AccessControl For Rasters: null
Child Resources:
Info
Histograms
Statistics
Key Properties
Legend
Raster Function Infos
Supported Operations:
Export Image
Identify
Measure
Compute Histograms
Compute Statistics Histograms
Get Samples
Compute Class Statistics
Query Boundary
Compute Pixel Location
Compute Angles
Validate
Project