{
 "currentVersion": 11.5,
 "serviceDescription": "COC_2023_OCT",
 "name": "COC_2023_OCT",
 "description": "",
 "extent": {
  "xmin": 662500,
  "ymin": 787500,
  "xmax": 772500,
  "ymax": 872500,
  "spatialReference": {
   "wkt2": "PROJCRS[\"NAD_1983_HARN_Arizona_Central_ft\",BASEGEOGCRS[\"GCS_North_American_1983_HARN\",DATUM[\"D_North_American_1983_HARN\",ELLIPSOID[\"GRS_1980\",6378137.0,298.257222101,LENGTHUNIT[\"Meter\",1.0]]],PRIMEM[\"Greenwich\",0.0,ANGLEUNIT[\"Degree\",0.0174532925199433]],CS[ellipsoidal,2],AXIS[\"Latitude (lat)\",north,ORDER[1]],AXIS[\"Longitude (lon)\",east,ORDER[2]],ANGLEUNIT[\"Degree\",0.0174532925199433]],CONVERSION[\"Transverse_Mercator\",METHOD[\"Transverse_Mercator\"],PARAMETER[\"false_easting\",700000.0,LENGTHUNIT[\"Foot\",0.3048]],PARAMETER[\"false_northing\",0.0,LENGTHUNIT[\"Foot\",0.3048]],PARAMETER[\"central_meridian\",-111.9166666666667,ANGLEUNIT[\"Degree\",0.0174532925199433]],PARAMETER[\"scale_factor\",0.9999,SCALEUNIT[\"Unity\",1.0]],PARAMETER[\"latitude_of_origin\",31.0,ANGLEUNIT[\"Degree\",0.0174532925199433]]],CS[Cartesian,2],AXIS[\"Easting (X)\",east,ORDER[1]],AXIS[\"Northing (Y)\",north,ORDER[2]],LENGTHUNIT[\"Foot\",0.3048]]",
   "wkt": "PROJCS[\"NAD_1983_HARN_Arizona_Central_ft\",GEOGCS[\"GCS_North_American_1983_HARN\",DATUM[\"D_North_American_1983_HARN\",SPHEROID[\"GRS_1980\",6378137.0,298.257222101]],PRIMEM[\"Greenwich\",0.0],UNIT[\"Degree\",0.0174532925199433]],PROJECTION[\"Transverse_Mercator\"],PARAMETER[\"false_easting\",700000.0],PARAMETER[\"false_northing\",0.0],PARAMETER[\"central_meridian\",-111.9166666666667],PARAMETER[\"scale_factor\",0.9999],PARAMETER[\"latitude_of_origin\",31.0],UNIT[\"Foot\",0.3048]]"
  }
 },
 "initialExtent": {
  "xmin": 662500,
  "ymin": 787500,
  "xmax": 772500,
  "ymax": 872500,
  "spatialReference": {
   "wkt2": "PROJCRS[\"NAD_1983_HARN_Arizona_Central_ft\",BASEGEOGCRS[\"GCS_North_American_1983_HARN\",DATUM[\"D_North_American_1983_HARN\",ELLIPSOID[\"GRS_1980\",6378137.0,298.257222101,LENGTHUNIT[\"Meter\",1.0]]],PRIMEM[\"Greenwich\",0.0,ANGLEUNIT[\"Degree\",0.0174532925199433]],CS[ellipsoidal,2],AXIS[\"Latitude (lat)\",north,ORDER[1]],AXIS[\"Longitude (lon)\",east,ORDER[2]],ANGLEUNIT[\"Degree\",0.0174532925199433]],CONVERSION[\"Transverse_Mercator\",METHOD[\"Transverse_Mercator\"],PARAMETER[\"false_easting\",700000.0,LENGTHUNIT[\"Foot\",0.3048]],PARAMETER[\"false_northing\",0.0,LENGTHUNIT[\"Foot\",0.3048]],PARAMETER[\"central_meridian\",-111.9166666666667,ANGLEUNIT[\"Degree\",0.0174532925199433]],PARAMETER[\"scale_factor\",0.9999,SCALEUNIT[\"Unity\",1.0]],PARAMETER[\"latitude_of_origin\",31.0,ANGLEUNIT[\"Degree\",0.0174532925199433]]],CS[Cartesian,2],AXIS[\"Easting (X)\",east,ORDER[1]],AXIS[\"Northing (Y)\",north,ORDER[2]],LENGTHUNIT[\"Foot\",0.3048]]",
   "wkt": "PROJCS[\"NAD_1983_HARN_Arizona_Central_ft\",GEOGCS[\"GCS_North_American_1983_HARN\",DATUM[\"D_North_American_1983_HARN\",SPHEROID[\"GRS_1980\",6378137.0,298.257222101]],PRIMEM[\"Greenwich\",0.0],UNIT[\"Degree\",0.0174532925199433]],PROJECTION[\"Transverse_Mercator\"],PARAMETER[\"false_easting\",700000.0],PARAMETER[\"false_northing\",0.0],PARAMETER[\"central_meridian\",-111.9166666666667],PARAMETER[\"scale_factor\",0.9999],PARAMETER[\"latitude_of_origin\",31.0],UNIT[\"Foot\",0.3048]]"
  }
 },
 "fullExtent": {
  "xmin": 662500,
  "ymin": 787500,
  "xmax": 772500,
  "ymax": 872500,
  "spatialReference": {
   "wkt2": "PROJCRS[\"NAD_1983_HARN_Arizona_Central_ft\",BASEGEOGCRS[\"GCS_North_American_1983_HARN\",DATUM[\"D_North_American_1983_HARN\",ELLIPSOID[\"GRS_1980\",6378137.0,298.257222101,LENGTHUNIT[\"Meter\",1.0]]],PRIMEM[\"Greenwich\",0.0,ANGLEUNIT[\"Degree\",0.0174532925199433]],CS[ellipsoidal,2],AXIS[\"Latitude (lat)\",north,ORDER[1]],AXIS[\"Longitude (lon)\",east,ORDER[2]],ANGLEUNIT[\"Degree\",0.0174532925199433]],CONVERSION[\"Transverse_Mercator\",METHOD[\"Transverse_Mercator\"],PARAMETER[\"false_easting\",700000.0,LENGTHUNIT[\"Foot\",0.3048]],PARAMETER[\"false_northing\",0.0,LENGTHUNIT[\"Foot\",0.3048]],PARAMETER[\"central_meridian\",-111.9166666666667,ANGLEUNIT[\"Degree\",0.0174532925199433]],PARAMETER[\"scale_factor\",0.9999,SCALEUNIT[\"Unity\",1.0]],PARAMETER[\"latitude_of_origin\",31.0,ANGLEUNIT[\"Degree\",0.0174532925199433]]],CS[Cartesian,2],AXIS[\"Easting (X)\",east,ORDER[1]],AXIS[\"Northing (Y)\",north,ORDER[2]],LENGTHUNIT[\"Foot\",0.3048]]",
   "wkt": "PROJCS[\"NAD_1983_HARN_Arizona_Central_ft\",GEOGCS[\"GCS_North_American_1983_HARN\",DATUM[\"D_North_American_1983_HARN\",SPHEROID[\"GRS_1980\",6378137.0,298.257222101]],PRIMEM[\"Greenwich\",0.0],UNIT[\"Degree\",0.0174532925199433]],PROJECTION[\"Transverse_Mercator\"],PARAMETER[\"false_easting\",700000.0],PARAMETER[\"false_northing\",0.0],PARAMETER[\"central_meridian\",-111.9166666666667],PARAMETER[\"scale_factor\",0.9999],PARAMETER[\"latitude_of_origin\",31.0],UNIT[\"Foot\",0.3048]]"
  }
 },
 "sortableFields": "MinPS,MaxPS,LowPS,HighPS,CenterX,CenterY,ZOrder,Shape_Length,Shape_Area",
 "bandCount": 4,
 "pixelType": "U8",
 "minValues": [
  0,
  0,
  0,
  0
 ],
 "maxValues": [
  255,
  255,
  255,
  255
 ],
 "meanValues": [
  149.7836854999999,
  138.41688449999452,
  123.67340800000228,
  170.0209840000081
 ],
 "stdvValues": [
  57.039048530492586,
  45.28003449595222,
  42.586923855669355,
  45.23215235477321
 ],
 "serviceProperties": "NorthWest<\/MosaicMethod>First<\/MosaicOperator>true<\/SortAscending><\/LockImageID>Name<\/TileOrderField>0<\/TileOrderBase>600.000000<\/AvgImageSpacingX>300.000000<\/AvgImageSpacingY>0.0<\/ViewPointX>0.0<\/ViewPointY>0.0<\/ViewPointDefShiftX>0.0<\/ViewPointDefShiftY>None<\/CompressionMethod>75<\/CompressionQuality>0.010000<\/CompressionTolerance>Bilinear<\/SamplingMethod><\/ImageServiceProperties><\/ImageServer>",
 "allowedFields": "Name,MinPS,MaxPS,LowPS,HighPS,Tag,GroupName,ProductName,CenterX,CenterY,ZOrder,Shape_Length,Shape_Area",
 "hasMultidimensions": false,
 "pixelSizeX": 0.25,
 "pixelSizeY": 0.25,
 "meanPixelSize": 0.0762,
 "datasetFormat": "AMD",
 "uncompressedSize": 598400000000,
 "blockWidth": 2048,
 "blockHeight": 256,
 "compressionType": "None",
 "bandNames": [
  "Band_1",
  "Band_2",
  "Band_3",
  "Band_4"
 ],
 "allowCopy": true,
 "allowAnalysis": true,
 "itemAccess": false,
 "inspectionCapabilities": "",
 "minPixelSize": 0,
 "maxPixelSize": 0,
 "copyrightText": "",
 "serviceDataType": "esriImageServiceDataTypeGeneric",
 "serviceSourceType": "esriImageServiceSourceTypeMosaicDataset",
 "objectIdField": "OBJECTID",
 "fields": [
  {
   "name": "OBJECTID",
   "type": "esriFieldTypeOID",
   "alias": "OBJECTID",
   "domain": null
  },
  {
   "name": "Shape",
   "type": "esriFieldTypeGeometry",
   "alias": "Shape",
   "domain": null
  },
  {
   "name": "Name",
   "type": "esriFieldTypeString",
   "alias": "Name",
   "domain": null,
   "length": 200
  },
  {
   "name": "MinPS",
   "type": "esriFieldTypeDouble",
   "alias": "MinPS",
   "domain": null
  },
  {
   "name": "MaxPS",
   "type": "esriFieldTypeDouble",
   "alias": "MaxPS",
   "domain": null
  },
  {
   "name": "LowPS",
   "type": "esriFieldTypeDouble",
   "alias": "LowPS",
   "domain": null
  },
  {
   "name": "HighPS",
   "type": "esriFieldTypeDouble",
   "alias": "HighPS",
   "domain": null
  },
  {
   "name": "Category",
   "type": "esriFieldTypeInteger",
   "alias": "Category",
   "domain": {
    "type": "codedValue",
    "name": "MosaicCatalogItemCategoryDomain",
    "description": "Catalog item categories.",
    "codedValues": [
     {
      "name": "Unknown",
      "code": 0
     },
     {
      "name": "Primary",
      "code": 1
     },
     {
      "name": "Overview",
      "code": 2
     },
     {
      "name": "Unprocessed Overview",
      "code": 3
     },
     {
      "name": "Partial Overview",
      "code": 4
     },
     {
      "name": "Inactive",
      "code": 5
     },
     {
      "name": "Uploaded",
      "code": 253
     },
     {
      "name": "Incomplete",
      "code": 254
     },
     {
      "name": "Custom",
      "code": 255
     }
    ],
    "mergePolicy": "esriMPTDefaultValue",
    "splitPolicy": "esriSPTDefaultValue"
   }
  },
  {
   "name": "Tag",
   "type": "esriFieldTypeString",
   "alias": "Tag",
   "domain": null,
   "length": 100
  },
  {
   "name": "GroupName",
   "type": "esriFieldTypeString",
   "alias": "GroupName",
   "domain": null,
   "length": 100
  },
  {
   "name": "ProductName",
   "type": "esriFieldTypeString",
   "alias": "ProductName",
   "domain": null,
   "length": 100
  },
  {
   "name": "CenterX",
   "type": "esriFieldTypeDouble",
   "alias": "CenterX",
   "domain": null
  },
  {
   "name": "CenterY",
   "type": "esriFieldTypeDouble",
   "alias": "CenterY",
   "domain": null
  },
  {
   "name": "ZOrder",
   "type": "esriFieldTypeInteger",
   "alias": "ZOrder",
   "domain": null
  },
  {
   "name": "Shape_Length",
   "type": "esriFieldTypeDouble",
   "alias": "Shape_Length",
   "domain": null
  },
  {
   "name": "Shape_Area",
   "type": "esriFieldTypeDouble",
   "alias": "Shape_Area",
   "domain": null
  }
 ],
 "capabilities": "Image,Metadata,Catalog,Mensuration",
 "defaultMosaicMethod": "Northwest",
 "allowedMosaicMethods": "NorthWest,Center,LockRaster,ByAttribute,Nadir,Viewpoint,Seamline,None",
 "sortField": "",
 "sortValue": null,
 "sortAscending": true,
 "mosaicOperator": "First",
 "maxDownloadSizeLimit": 2048,
 "defaultCompressionQuality": 75,
 "defaultResamplingMethod": "Bilinear",
 "maxImageHeight": 4100,
 "maxImageWidth": 15000,
 "maxRecordCount": 1000,
 "maxDownloadImageCount": 20,
 "maxMosaicImageCount": 43,
 "allowRasterFunction": true,
 "rasterFunctionInfos": [
  {
   "name": "None",
   "description": "Make a Raster or Raster Dataset into a Function Raster Dataset.",
   "help": ""
  }
 ],
 "rasterTypeInfos": [
  {
   "name": "Raster Dataset",
   "description": "Supports all ArcGIS Raster Datasets",
   "help": ""
  }
 ],
 "mensurationCapabilities": "Basic",
 "hasHistograms": true,
 "hasColormap": false,
 "hasRasterAttributeTable": false,
 "minScale": 0,
 "maxScale": 0,
 "exportTilesAllowed": false,
 "supportsStatistics": true,
 "supportsAdvancedQueries": true,
 "editFieldsInfo": null,
 "ownershipBasedAccessControlForRasters": null,
 "allowComputeTiePoints": false,
 "useStandardizedQueries": true,
 "advancedQueryCapabilities": {
  "useStandardizedQueries": true,
  "supportsStatistics": true,
  "supportsOrderBy": true,
  "supportsDistinct": true,
  "supportsPagination": true
 },
 "spatialReference": {
  "wkt2": "PROJCRS[\"NAD_1983_HARN_Arizona_Central_ft\",BASEGEOGCRS[\"GCS_North_American_1983_HARN\",DATUM[\"D_North_American_1983_HARN\",ELLIPSOID[\"GRS_1980\",6378137.0,298.257222101,LENGTHUNIT[\"Meter\",1.0]]],PRIMEM[\"Greenwich\",0.0,ANGLEUNIT[\"Degree\",0.0174532925199433]],CS[ellipsoidal,2],AXIS[\"Latitude (lat)\",north,ORDER[1]],AXIS[\"Longitude (lon)\",east,ORDER[2]],ANGLEUNIT[\"Degree\",0.0174532925199433]],CONVERSION[\"Transverse_Mercator\",METHOD[\"Transverse_Mercator\"],PARAMETER[\"false_easting\",700000.0,LENGTHUNIT[\"Foot\",0.3048]],PARAMETER[\"false_northing\",0.0,LENGTHUNIT[\"Foot\",0.3048]],PARAMETER[\"central_meridian\",-111.9166666666667,ANGLEUNIT[\"Degree\",0.0174532925199433]],PARAMETER[\"scale_factor\",0.9999,SCALEUNIT[\"Unity\",1.0]],PARAMETER[\"latitude_of_origin\",31.0,ANGLEUNIT[\"Degree\",0.0174532925199433]]],CS[Cartesian,2],AXIS[\"Easting (X)\",east,ORDER[1]],AXIS[\"Northing (Y)\",north,ORDER[2]],LENGTHUNIT[\"Foot\",0.3048]]",
  "wkt": "PROJCS[\"NAD_1983_HARN_Arizona_Central_ft\",GEOGCS[\"GCS_North_American_1983_HARN\",DATUM[\"D_North_American_1983_HARN\",SPHEROID[\"GRS_1980\",6378137.0,298.257222101]],PRIMEM[\"Greenwich\",0.0],UNIT[\"Degree\",0.0174532925199433]],PROJECTION[\"Transverse_Mercator\"],PARAMETER[\"false_easting\",700000.0],PARAMETER[\"false_northing\",0.0],PARAMETER[\"central_meridian\",-111.9166666666667],PARAMETER[\"scale_factor\",0.9999],PARAMETER[\"latitude_of_origin\",31.0],UNIT[\"Foot\",0.3048]]"
 }
}
